BEGIN:VCALENDAR
VERSION:2.0
PRODID:-//The Original Charleston Pub &amp; Brewery Tour - ECPv6.15.20//NONSGML v1.0//EN
CALSCALE:GREGORIAN
METHOD:PUBLISH
X-WR-CALNAME:The Original Charleston Pub &amp; Brewery Tour
X-ORIGINAL-URL:https://pubtourcharleston.com
X-WR-CALDESC:Events for The Original Charleston Pub &amp; Brewery Tour
REFRESH-INTERVAL;VALUE=DURATION:PT1H
X-Robots-Tag:noindex
X-PUBLISHED-TTL:PT1H
BEGIN:VTIMEZONE
TZID:UTC
BEGIN:STANDARD
TZOFFSETFROM:+0000
TZOFFSETTO:+0000
TZNAME:UTC
DTSTART:20150101T000000
END:STANDARD
END:VTIMEZONE
BEGIN:VEVENT
DTSTART;VALUE=DATE:20161125
DTEND;VALUE=DATE:20170111
DTSTAMP:20260423T175936
CREATED:20160620T140917Z
LAST-MODIFIED:20160925T174145Z
UID:381-1480032000-1484092799@pubtourcharleston.com
SUMMARY:8th Annual Holiday Pub Crawl— Eat\, Drink\, & Be Merry!
DESCRIPTION:CLICK TO BOOK NOW!\nDates: November 25\, 2016 to January 10\, 2017 (4PM & 7PM Daily)\nPhone: 504-302-0989\, or 800-979-3370\nEmail: info@pubtourcharleston.com\nWebsite: https://pubtourcharleston.com/ \nThe annual Holiday Pub Crawl is back by popular demand!\nThe annual Holiday Pub Crawl is back by popular demand! This is the BEST way to celebrate the holidays in Charleston with a fun and festive twist\, complete with local flare and good cheer! \nNothing represents the holiday season better than friends\, family\, warm cider & spirits\, and tables topped with plates of different hors d’oeuvres to enjoy! \nThe Original Pub & Brewery Tours of Charleston celebrates the season in the same way\, and we invite you to bring your friends and family along on an adventure to visit historic taverns and pubs\, and to feast on appetizers and holiday treats\, while tasting a pint of local craft beer\, Christmas ale or beverage of choice. \nBased on popular pub crawls in Europe\, it’s a unique spin on a historic city tour through the oldest pubs and taverns that are often hard to find! This 2.5 hour tour visits 4 historic pubs where everyone can have their favorite beverage and enjoy complimentary appetizers and holiday treats! \nOur local guides will regale you with tales of pirates\, prohibition\, patriots\, and presidents who once roamed the very streets on which you are walking. Reservations are required. Come join us for this fantastic holiday celebration for a great cause! (**a portion of all proceeds goes to benefit MUSC Children’s Hospital) \nCost is $30 per person. Includes appetizers and holiday treats. Drinks are available for purchase at each stop on the tour (typically 3-5 pubs). Each crawl departs at 1pm\, 4pm\, and 7pm daily between 11/25/16 and 1/8/17. \nDetails: \nTicket price: $30 per adult\nTour Times: 4pm and 7pm daily\nTommy Condon’s Irish Pub (departure location)\n160 Church St.\nPhone: 504-302-0989 or 504-609-4479\nGroup Sales: 504-609-4479 or info@pubtourcharleston.com\nWebsite: https://pubtourcharleston.com \n(**Portion of proceeds donated to benefit MUSC Children’s Hospital**) \n“Most entertaining and delightful tour imaginable! Our whole family agreed that this was the highlight of our holiday vacation!!!” –Angie Martin\, Atlanta\, GA
URL:https://pubtourcharleston.com/event/8th-annual-holiday-pub-crawl-eat-drink-be-merry/
LOCATION:Tommy Condon’s Irish Pub\, 160 Church Street\, Charleston\, SC\, United States
CATEGORIES:Holiday Pub Crawl
ATTACH;FMTTYPE=image/jpeg:https://pubtourcharleston.com/wp-content/uploads/2016/06/santa-beer.jpg
ORGANIZER;CN="Brian":MAILTO:brian@pubtourcharleston.com
END:VEVENT
END:VCALENDAR